BEGIN:VCALENDAR
VERSION:2.0
PRODID:-//ixim.org//NONSGML kigkonsult.se iCalcreator 2.30.10//
CALSCALE:GREGORIAN
METHOD:PUBLISH
UID:32ae562e-cc69-46e3-9293-920b7efe06b8
X-WR-CALDESC:
X-WR-RELCALID:b938fb1d91713c8c7d6492786b44faa3
X-WR-TIMEZONE:America/Chicago
BEGIN:VTIMEZONE
TZID:America/Chicago
BEGIN:STANDARD
TZNAME:CST
DTSTART:20191103T020000
TZOFFSETFROM:-0500
TZOFFSETTO:-0600
RDATE:20201101T020000
RDATE:20211107T020000
END:STANDARD
BEGIN:DAYLIGHT
TZNAME:CDT
DTSTART:20200308T020000
TZOFFSETFROM:-0600
TZOFFSETTO:-0500
RDATE:20210314T020000
END:DAYLIGHT
END:VTIMEZONE
BEGIN:VEVENT
UID:f5cf54ff-b787-41b8-86dc-38acf74ebb8f
DTSTAMP:20260422T011956Z
DESCRIPTION:
DTSTART;TZID=America/Chicago:20200820T170000
DTEND;TZID=America/Chicago:20200820T180000
LOCATION:
SUMMARY:Ixim Leadership
END:VEVENT
END:VCALENDAR
